Workbook

Sheet Releva
A1: Relevaminto de datos para Costo-Ututidad-Volumen
A2: IANCA - Instituto Argentino de Negociación, Conciliación y Arbitraje
A5: © Miguel Ángel Martín
J6: =TODAY() -> 44957 | L6: RSI: | M6: 0.15
A7: Nº | B7: Elementos | C7: Valores
C8: q | D8: cv | E8: pv | F8: mc | G8: CV | H8: CTra | I8: V | J8: CF | K8: Objetivo | L8: MC | M8: UV | N8: Descartar
F9: pv-cv | G9: cv x q | I9: pv x q | J9: Objetivo resultado | K9: resultado | L9: V - CV | M9: mc / pv | N9: elemento
B10: Costos fijos generales | J10: =3000000 -> 3000000
B11: Capital de trabajo general | H11: 5400000
B12: Objetivo dfe rentabilidad | K12: =H17*M6 -> 1500000
A13: 1 | B13: A | C13: 1500 | D13: 3100 | E13: 5800 | F13: =E13-D13 -> 2700 | G13: =C13*D13 -> 4650000 | H13: 1000000 | I13: =C13*E13 -> 8700000 | J13: 100000 | L13: =I13-G13 -> 4050000 | M13: =F13/E13 -> 0.46551724
A14: 2 | B14: B | C14: 1300 | D14: 2450 | E14: 3500 | F14: =E14-D14 -> 1050 | G14: =C14*D14 -> 3185000 | H14: 1200000 | I14: =C14*E14 -> 4550000 | J14: 150000 | L14: =I14-G14 -> 1365000 | M14: =F14/E14 -> 0.3
A15: 3 | B15: C | C15: 2000 | D15: 1550 | E15: 1550 | F15: =E15-D15 -> 0 | G15: =C15*D15 -> 3100000 | H15: 2000000 | I15: =C15*E15 -> 3100000 | J15: 100000 | L15: =I15-G15 -> 0 | M15: =F15/E15 -> 0
A16: 4 | B16: D | C16: 600 | D16: 5000 | E16: 4400 | F16: =E16-D16 -> -600 | G16: =C16*D16 -> 3000000 | H16: 400000 | I16: =C16*E16 -> 2640000 | J16: 200000 | L16: =I16-G16 -> -360000 | M16: =F16/E16 -> -0.13636364
C17: =SUM(C13:C16) -> 5400 | F17: =SUM(F10:F16) -> 3150 | G17: =SUM(G10:G16) -> 13935000 | H17: =SUM(H10:H16) -> 10000000 | I17: =SUM(I10:I16) -> 18990000 | J17: =SUM(J10:J16) -> 3550000 | L17: =SUM(L13:L16) -> 5055000
B18: Gravámenes sobre precio de venta
B19: IVA: | C19: 0.21 | K19: Resultado: | L19: =L17-J17 -> 1505000
B20: IIBB | C20: 0.04
B21: Otros | C21: 0
B22: Total gravámenes exponenciales | C22: =(1+C19)*(1+C20)*(1+C21)-1 -> 0.2584

Sheet Deter
A1: Análisis Costo-Utitidad-Volumen | L1: 1
A2: IANCA - Instituto Argentino de Negociación, Conciliación y Arbitraje
N3: Contribución cada
N4: 10000
A5: © Miguel Ángel Martín | M5: A | N5: =10000*E24 -> 4655.1724
I6: RSI: | J6: =Releva!$M$6 -> 0.15 | M6: B | N6: =IF(F25="X","",10000*E25) -> 3000
A7: Nº | B7: Producto y/o Servicio | C7: Valores | M7: C | N7: =IF(F26="X","",10000*E26) -> 0
C8: q | D8: cv | E8: pv | F8: mc | G8: CV | H8: CTra | I8: V | J8: CF | M8: D | N8: =IF(F27="X","",10000*E27) -> -1363.6364
F9: pv-cv | G9: cv x q | I9: pv x q
B10: Costos fijos generales | J10: =Releva!$J$10 -> 3000000 | M10: Importe | Q10: =(C23-P12)/C17*100 -> 93518.519
B11: Capital de trabajo general | H11: =Releva!$H$11 -> 5400000 | L11: PE real | M11: Ventas | N11: Resultado | O11: Tramo | P11: Mezcla | S11: Ventas
B12: Objetivo dfe rentabilidad | L12: =IF(M12>I$17,0,IF(N11<0,IF(N12>0,M12,0),0)) -> 0 | M12: 0 | N12: =-J17 -> -3550000 | P12: =N12 -> -3550000 | Q12: =IF(F24="",E13*E24,0) -> 2700 | R12: =LOOKUP(I17,M12:M2022,N12:N2022) -> 1505000 | S12: 0
A13: 1 | B13: =IF($F24="X","",Releva!B13) -> A | C13: =IF(F24="X",0,Releva!C13) -> 1500 | D13: =IF(F24="X",0,Releva!D13) -> 3100 | E13: =IF(F24="X",0,Releva!E13) -> 5800 | F13: =IF(F24="",E13-D13,0) -> 2700 | G13: =IF(F24="",C13*D13,0) -> 4650000 | H13: =IF($F24="X",0,Releva!H13) -> 1000000 | I13: =IF(F24="",C13*E13,0) -> 8700000 | J13: =IF($F24="X",0,Releva!J13) -> 100000 | L13: =IF(M13>I$17,0,IF(N12<0,IF(N13>0,M13,0),0)) -> 0 | M13: 10000 | N13: =IF((I$17+1)<=M13,NA(),N12+O13) -> -3545344.8 | O13: =IF(M13>I$17,NA(),IF(M13<=G$24,N$5,IF(M13<=G$25,N$6,IF(M13<=G$26,N$7,N$8)))) -> 4655.1724 | P13: =IF(M13>I$17,NA(),P12+R$14) -> -3547338.1 | Q13: =IF(F25="",E14*E25,0) -> 1050 | R13: =I17/10000 -> 1899
A14: 2 | B14: =IF($F25="X","",Releva!B14) -> B | C14: =IF(F25="X",0,Releva!C14) -> 1300 | D14: =IF(F25="X",0,Releva!D14) -> 2450 | E14: =IF(F25="X",0,Releva!E14) -> 3500 | F14: =IF(F25="",E14-D14,0) -> 1050 | G14: =IF(F25="",C14*D14,0) -> 3185000 | H14: =IF($F25="X",0,Releva!H14) -> 1200000 | I14: =IF(F25="",C14*E14,0) -> 4550000 | J14: =IF($F25="X",0,Releva!J14) -> 150000 | L14: =IF(M14>I$17,0,IF(N13<0,IF(N14>0,M14,0),0)) -> 0 | M14: 20000 | N14: =IF((I$17+1)<=M14,NA(),N13+O14) -> -3540689.7 | O14: =IF(M14>I$17,NA(),IF(M14<=G$24,N$5,IF(M14<=G$25,N$6,IF(M14<=G$26,N$7,N$8)))) -> 4655.1724 | P14: =IF(M14>I$17,NA(),P13+R$14) -> -3544676.1 | Q14: =IF(F26="",E15*E26,0) -> 0 | R14: =(R12-P12)/R13 -> 2661.9273
A15: 3 | B15: =IF($F26="X","",Releva!B15) -> C | C15: =IF(F26="X",0,Releva!C15) -> 2000 | D15: =IF(F26="X",0,Releva!D15) -> 1550 | E15: =IF(F26="X",0,Releva!E15) -> 1550 | F15: =IF(F26="",E15-D15,0) -> 0 | G15: =IF(F26="",C15*D15,0) -> 3100000 | H15: =IF($F26="X",0,Releva!H15) -> 2000000 | I15: =IF(F26="",C15*E15,0) -> 3100000 | J15: =IF($F26="X",0,Releva!J15) -> 100000 | L15: =IF(M15>I$17,0,IF(N14<0,IF(N15>0,M15,0),0)) -> 0 | M15: 30000 | N15: =IF((I$17+1)<=M15,NA(),N14+O15) -> -3536034.5 | O15: =IF(M15>I$17,NA(),IF(M15<=G$24,N$5,IF(M15<=G$25,N$6,IF(M15<=G$26,N$7,N$8)))) -> 4655.1724 | P15: =IF(M15>I$17,NA(),P14+R$14) -> -3542014.2 | Q15: =IF(F27="",E16*E27,0) -> -600
A16: 4 | B16: =IF($F27="X","",Releva!B16) -> D | C16: =IF(F27="X",0,Releva!C16) -> 600 | D16: =IF(F27="X",0,Releva!D16) -> 5000 | E16: =IF(F27="X",0,Releva!E16) -> 4400 | F16: =IF(F27="",E16-D16,0) -> -600 | G16: =IF(F27="",C16*D16,0) -> 3000000 | H16: =IF($F27="X",0,Releva!H16) -> 400000 | I16: =IF(F27="",C16*E16,0) -> 2640000 | J16: =IF($F27="X",0,Releva!J16) -> 200000 | L16: =IF(M16>I$17,0,IF(N15<0,IF(N16>0,M16,0),0)) -> 0 | M16: 40000 | N16: =IF((I$17+1)<=M16,NA(),N15+O16) -> -3531379.3 | O16: =IF(M16>I$17,NA(),IF(M16<=G$24,N$5,IF(M16<=G$25,N$6,IF(M16<=G$26,N$7,N$8)))) -> 4655.1724 | P16: =IF(M16>I$17,NA(),P15+R$14) -> -3539352.3
B17: Total | C17: =SUM(C13:C16) -> 5400 | D17: =SUM(D10:D16) -> 12100 | E17: =SUM(E10:E16) -> 15250 | F17: =SUM(F10:F16) -> 3150 | G17: =SUM(G10:G16) -> 13935000 | H17: =SUM(H10:H16) -> 10000000 | I17: =SUM(I10:I16) -> 18990000 | J17: =SUM(J10:J16) -> 3550000 | L17: =IF(M17>I$17,0,IF(N16<0,IF(N17>0,M17,0),0)) -> 0 | M17: 50000 | N17: =IF((I$17+1)<=M17,NA(),N16+O17) -> -3526724.1 | O17: =IF(M17>I$17,NA(),IF(M17<=G$24,N$5,IF(M17<=G$25,N$6,IF(M17<=G$26,N$7,N$8)))) -> 4655.1724 | P17: =IF(M17>I$17,NA(),P16+R$14) -> -3536690.4
L18: =IF(M18>I$17,0,IF(N17<0,IF(N18>0,M18,0),0)) -> 0 | M18: 60000 | N18: =IF((I$17+1)<=M18,NA(),N17+O18) -> -3522069 | O18: =IF(M18>I$17,NA(),IF(M18<=G$24,N$5,IF(M18<=G$25,N$6,IF(M18<=G$26,N$7,N$8)))) -> 4655.1724 | P18: =IF(M18>I$17,NA(),P17+R$14) -> -3534028.4 | T18: Unidades | V18: Costo Fijo | W18: Costo Variable | X18: Ventas | Y18: CV + CF | AA18: Venta mezcla | AB18: CV mezcla | AC18: CF + CV mezcla | AD18: CF mezcla
A19: Nº | B19: Producto y/o Servicio | C19: Objetivo | D19: MC | E19: UV | F19: Descartar | G19: Venta | L19: =IF(M19>I$17,0,IF(N18<0,IF(N19>0,M19,0),0)) -> 0 | M19: 70000 | N19: =IF((I$17+1)<=M19,NA(),N18+O19) -> -3517413.8 | O19: =IF(M19>I$17,NA(),IF(M19<=G$24,N$5,IF(M19<=G$25,N$6,IF(M19<=G$26,N$7,N$8)))) -> 4655.1724 | P19: =IF(M19>I$17,NA(),P18+R$14) -> -3531366.5 | T19: 0 | V19: =J10 -> 3000000 | W19: 0 | X19: 0 | Y19: =V19+W19 -> 3000000 | AA19: 0 | AB19: 0 | AD19: =IF(T20>C$17,NA(),J$17) -> 3550000
C20: resultado | D20: V - CV | E20: mc / pv | G20: acumulada | L20: =IF(M20>I$17,0,IF(N19<0,IF(N20>0,M20,0),0)) -> 0 | M20: 80000 | N20: =IF((I$17+1)<=M20,NA(),N19+O20) -> -3512758.6 | O20: =IF(M20>I$17,NA(),IF(M20<=G$24,N$5,IF(M20<=G$25,N$6,IF(M20<=G$26,N$7,N$8)))) -> 4655.1724 | P20: =IF(M20>I$17,NA(),P19+R$14) -> -3528704.6 | T20: 100 | U20: =IF(C$17<T20,NA(),IF((C$17-C$16)<T20,"D",IF((C$17-C$16-C$15)<T20,"C",IF((C$17+C$16-C$15-C$14)<T20,"B","A")))) -> A | V20: =IF(C$17<T20,NA(),IF((C$17-C$16)<T20,J$17,IF((C$17-C$16-C$15)<T21,J$17-J$16,IF((C$17-C$16-C$15-C$14)<T20,J$17-J$16-J$15,J$13+J$10)))) -> 3100000 | W20: =IF(U20="A",T$20*D$13,IF(U20="B",T$20*D$14,IF(U20="C",T$20*D$15,IF(U20="D",T$20*D$16,NA()))))+W19 -> 310000 | X20: =IF(U20="A",T$20*E$13,IF(U20="B",T$20*E$14,IF(U20="C",T$20*E$15,IF(U20="D",T$20*E$16,NA()))))+X19 -> 580000 | Y20: =V20+W20 -> 3410000 | AA20: =IF(T20>C$17,NA(),T20*D$35) -> 351666.67 | AB20: =IF(T20>C$17,NA(),T20*D$36) -> 258055.56 | AC20: =AB20+AD20 -> 3808055.6 | AD20: =IF(T20>C$17,NA(),J$17) -> 3550000
B21: Costos fijos generales | L21: =IF(M21>I$17,0,IF(N20<0,IF(N21>0,M21,0),0)) -> 0 | M21: 90000 | N21: =IF((I$17+1)<=M21,NA(),N20+O21) -> -3508103.4 | O21: =IF(M21>I$17,NA(),IF(M21<=G$24,N$5,IF(M21<=G$25,N$6,IF(M21<=G$26,N$7,N$8)))) -> 4655.1724 | P21: =IF(M21>I$17,NA(),P20+R$14) -> -3526042.7 | T21: 200 | U21: =IF(C$17<T21,NA(),IF((C$17-C$16)<T21,"D",IF((C$17-C$16-C$15)<T21,"C",IF((C$17+C$16-C$15-C$14)<T21,"B","A")))) -> A | V21: =IF(C$17<T21,NA(),IF((C$17-C$16)<T21,J$17,IF((C$17-C$16-C$15)<T22,J$17-J$16,IF((C$17-C$16-C$15-C$14)<T21,J$17-J$16-J$15,J$13+J$10)))) -> 3100000 | W21: =IF(U21="A",T$20*D$13,IF(U21="B",T$20*D$14,IF(U21="C",T$20*D$15,IF(U21="D",T$20*D$16,NA()))))+W20 -> 620000 | X21: =IF(U21="A",T$20*E$13,IF(U21="B",T$20*E$14,IF(U21="C",T$20*E$15,IF(U21="D",T$20*E$16,NA()))))+X20 -> 1160000 | Y21: =V21+W21 -> 3720000 | AA21: =IF(T21>C$17,NA(),T21*D$35) -> 703333.33 | AB21: =IF(T21>C$17,NA(),T21*D$36) -> 516111.11 | AC21: =AB21+AD21 -> 4066111.1 | AD21: =IF(T21>C$17,NA(),J$17) -> 3550000
B22: Capital de trabajo general | L22: =IF(M22>I$17,0,IF(N21<0,IF(N22>0,M22,0),0)) -> 0 | M22: 100000 | N22: =IF((I$17+1)<=M22,NA(),N21+O22) -> -3503448.3 | O22: =IF(M22>I$17,NA(),IF(M22<=G$24,N$5,IF(M22<=G$25,N$6,IF(M22<=G$26,N$7,N$8)))) -> 4655.1724 | P22: =IF(M22>I$17,NA(),P21+R$14) -> -3523380.7 | T22: 300 | U22: =IF(C$17<T22,NA(),IF((C$17-C$16)<T22,"D",IF((C$17-C$16-C$15)<T22,"C",IF((C$17+C$16-C$15-C$14)<T22,"B","A")))) -> A | V22: =IF(C$17<T22,NA(),IF((C$17-C$16)<T22,J$17,IF((C$17-C$16-C$15)<T23,J$17-J$16,IF((C$17-C$16-C$15-C$14)<T22,J$17-J$16-J$15,J$13+J$10)))) -> 3100000 | W22: =IF(U22="A",T$20*D$13,IF(U22="B",T$20*D$14,IF(U22="C",T$20*D$15,IF(U22="D",T$20*D$16,NA()))))+W21 -> 930000 | X22: =IF(U22="A",T$20*E$13,IF(U22="B",T$20*E$14,IF(U22="C",T$20*E$15,IF(U22="D",T$20*E$16,NA()))))+X21 -> 1740000 | Y22: =V22+W22 -> 4030000 | AA22: =IF(T22>C$17,NA(),T22*D$35) -> 1055000 | AB22: =IF(T22>C$17,NA(),T22*D$36) -> 774166.67 | AC22: =AB22+AD22 -> 4324166.7 | AD22: =IF(T22>C$17,NA(),J$17) -> 3550000 | AH22: ventas | AI22: Artículo | AJ22: Acumuladas | AL22: Resultado | AM22: Medio
B23: Objetivo dfe rentabilidad | C23: =H17*J6 -> 1500000 | H23: Contribución | I23: Precio gravámenes | J23: Asignación | L23: =IF(M23>I$17,0,IF(N22<0,IF(N23>0,M23,0),0)) -> 0 | M23: 110000 | N23: =IF((I$17+1)<=M23,NA(),N22+O23) -> -3498793.1 | O23: =IF(M23>I$17,NA(),IF(M23<=G$24,N$5,IF(M23<=G$25,N$6,IF(M23<=G$26,N$7,N$8)))) -> 4655.1724 | P23: =IF(M23>I$17,NA(),P22+R$14) -> -3520718.8 | T23: 400 | U23: =IF(C$17<T23,NA(),IF((C$17-C$16)<T23,"D",IF((C$17-C$16-C$15)<T23,"C",IF((C$17+C$16-C$15-C$14)<T23,"B","A")))) -> A | V23: =IF(C$17<T23,NA(),IF((C$17-C$16)<T23,J$17,IF((C$17-C$16-C$15)<T24,J$17-J$16,IF((C$17-C$16-C$15-C$14)<T23,J$17-J$16-J$15,J$13+J$10)))) -> 3100000 | W23: =IF(U23="A",T$20*D$13,IF(U23="B",T$20*D$14,IF(U23="C",T$20*D$15,IF(U23="D",T$20*D$16,NA()))))+W22 -> 1240000 | X23: =IF(U23="A",T$20*E$13,IF(U23="B",T$20*E$14,IF(U23="C",T$20*E$15,IF(U23="D",T$20*E$16,NA()))))+X22 -> 2320000 | Y23: =V23+W23 -> 4340000 | AA23: =IF(T23>C$17,NA(),T23*D$35) -> 1406666.7 | AB23: =IF(T23>C$17,NA(),T23*D$36) -> 1032222.2 | AC23: =AB23+AD23 -> 4582222.2 | AD23: =IF(T23>C$17,NA(),J$17) -> 3550000 | AH23: 0 | AI23: 0 | AJ23: 0 | AL23: =-J17 -> -3550000 | AM23: =AL23 -> -3550000
A24: 1 | B24: =B13 -> A | D24: =IF(F24="",I13-G13,"") -> 4050000 | E24: =IF(F24="",F13/E13,"") -> 0.46551724 | F24: =IF(Releva!N13="","","X") | G24: =IF(D24="","",I13) -> 8700000 | H24: =IF(F24="X","",IF(E24>0,"Rentable",IF(E24=0,"Improductiva","Subsidiada"))) -> Rentable | I24: =IF(F24="X","",(1+Releva!$C$22)*E13) -> 7298.72 | J24: =(D13*C13)/(D$13*C$13+D$14*C$14+D$15*C$15+D$16*C$16) -> 0.33369214 | L24: =IF(M24>I$17,0,IF(N23<0,IF(N24>0,M24,0),0)) -> 0 | M24: 120000 | N24: =IF((I$17+1)<=M24,NA(),N23+O24) -> -3494137.9 | O24: =IF(M24>I$17,NA(),IF(M24<=G$24,N$5,IF(M24<=G$25,N$6,IF(M24<=G$26,N$7,N$8)))) -> 4655.1724 | P24: =IF(M24>I$17,NA(),P23+R$14) -> -3518056.9 | T24: 500 | U24: =IF(C$17<T24,NA(),IF((C$17-C$16)<T24,"D",IF((C$17-C$16-C$15)<T24,"C",IF((C$17+C$16-C$15-C$14)<T24,"B","A")))) -> A | V24: =IF(C$17<T24,NA(),IF((C$17-C$16)<T24,J$17,IF((C$17-C$16-C$15)<T25,J$17-J$16,IF((C$17-C$16-C$15-C$14)<T24,J$17-J$16-J$15,J$13+J$10)))) -> 3100000 | W24: =IF(U24="A",T$20*D$13,IF(U24="B",T$20*D$14,IF(U24="C",T$20*D$15,IF(U24="D",T$20*D$16,NA()))))+W23 -> 1550000 | X24: =IF(U24="A",T$20*E$13,IF(U24="B",T$20*E$14,IF(U24="C",T$20*E$15,IF(U24="D",T$20*E$16,NA()))))+X23 -> 2900000 | Y24: =V24+W24 -> 4650000 | AA24: =IF(T24>C$17,NA(),T24*D$35) -> 1758333.3 | AB24: =IF(T24>C$17,NA(),T24*D$36) -> 1290277.8 | AC24: =AB24+AD24 -> 4840277.8 | AD24: =IF(T24>C$17,NA(),J$17) -> 3550000 | AH24: =I13 -> 8700000 | AI24: 1 | AJ24: =AJ23+AH24 -> 8700000 | AL24: =AH24*E24+AL23 -> 500000 | AM24: =IF(E25="",C$23,AM23+AN$24) -> -2286250 | AN24: =(-AL23+IF(E25="",AL24,IF(E26="",AL25,IF(E27="",AL26,AL27))))/IF(E25="",2,IF(E26="",3,4)) -> 1263750
A25: 2 | B25: =B14 -> B | D25: =IF(F25="",I14-G14,"") -> 1365000 | E25: =IF(F25="",F14/E14,"") -> 0.3 | F25: =IF(Releva!N14="","","X") | G25: =IF(D25="","",I13+I14) -> 13250000 | H25: =IF(F25="X","",IF(E25>0,"Rentable",IF(E25=0,"Improductiva","Subsidiada"))) -> Rentable | I25: =IF(F25="X","",(1+Releva!$C$22)*E14) -> 4404.4 | J25: =(D14*C14)/(D$13*C$13+D$14*C$14+D$15*C$15+D$16*C$16) -> 0.22856118 | L25: =IF(M25>I$17,0,IF(N24<0,IF(N25>0,M25,0),0)) -> 0 | M25: 130000 | N25: =IF((I$17+1)<=M25,NA(),N24+O25) -> -3489482.8 | O25: =IF(M25>I$17,NA(),IF(M25<=G$24,N$5,IF(M25<=G$25,N$6,IF(M25<=G$26,N$7,N$8)))) -> 4655.1724 | P25: =IF(M25>I$17,NA(),P24+R$14) -> -3515394.9 | T25: 600 | U25: =IF(C$17<T25,NA(),IF((C$17-C$16)<T25,"D",IF((C$17-C$16-C$15)<T25,"C",IF((C$17+C$16-C$15-C$14)<T25,"B","A")))) -> A | V25: =IF(C$17<T25,NA(),IF((C$17-C$16)<T25,J$17,IF((C$17-C$16-C$15)<T26,J$17-J$16,IF((C$17-C$16-C$15-C$14)<T25,J$17-J$16-J$15,J$13+J$10)))) -> 3100000 | W25: =IF(U25="A",T$20*D$13,IF(U25="B",T$20*D$14,IF(U25="C",T$20*D$15,IF(U25="D",T$20*D$16,NA()))))+W24 -> 1860000 | X25: =IF(U25="A",T$20*E$13,IF(U25="B",T$20*E$14,IF(U25="C",T$20*E$15,IF(U25="D",T$20*E$16,NA()))))+X24 -> 3480000 | Y25: =V25+W25 -> 4960000 | AA25: =IF(T25>C$17,NA(),T25*D$35) -> 2110000 | AB25: =IF(T25>C$17,NA(),T25*D$36) -> 1548333.3 | AC25: =AB25+AD25 -> 5098333.3 | AD25: =IF(T25>C$17,NA(),J$17) -> 3550000 | AH25: =I14 -> 4550000 | AI25: 2 | AJ25: =AJ24+AH25 -> 13250000 | AL25: =AH25*E25+AL24 -> 1865000 | AM25: =IF(E26="",C$23,AM24+AN$24) -> -1022500
A26: 3 | B26: =B15 -> C | D26: =IF(F26="",I15-G15,"") -> 0 | E26: =IF(F26="",F15/E15,"") -> 0 | F26: =IF(Releva!N15="","","X") | G26: =IF(D26="","",I13+I14+I15) -> 16350000 | H26: =IF(F26="X","",IF(E26>0,"Rentable",IF(E26=0,"Improductiva","Subsidiada"))) -> Improductiva | I26: =IF(F26="X","",(1+Releva!$C$22)*E15) -> 1950.52 | J26: =(D15*C15)/(D$13*C$13+D$14*C$14+D$15*C$15+D$16*C$16) -> 0.22246143 | L26: =IF(M26>I$17,0,IF(N25<0,IF(N26>0,M26,0),0)) -> 0 | M26: 140000 | N26: =IF((I$17+1)<=M26,NA(),N25+O26) -> -3484827.6 | O26: =IF(M26>I$17,NA(),IF(M26<=G$24,N$5,IF(M26<=G$25,N$6,IF(M26<=G$26,N$7,N$8)))) -> 4655.1724 | P26: =IF(M26>I$17,NA(),P25+R$14) -> -3512733 | T26: 700 | U26: =IF(C$17<T26,NA(),IF((C$17-C$16)<T26,"D",IF((C$17-C$16-C$15)<T26,"C",IF((C$17+C$16-C$15-C$14)<T26,"B","A")))) -> A | V26: =IF(C$17<T26,NA(),IF((C$17-C$16)<T26,J$17,IF((C$17-C$16-C$15)<T27,J$17-J$16,IF((C$17-C$16-C$15-C$14)<T26,J$17-J$16-J$15,J$13+J$10)))) -> 3100000 | W26: =IF(U26="A",T$20*D$13,IF(U26="B",T$20*D$14,IF(U26="C",T$20*D$15,IF(U26="D",T$20*D$16,NA()))))+W25 -> 2170000 | X26: =IF(U26="A",T$20*E$13,IF(U26="B",T$20*E$14,IF(U26="C",T$20*E$15,IF(U26="D",T$20*E$16,NA()))))+X25 -> 4060000 | Y26: =V26+W26 -> 5270000 | AA26: =IF(T26>C$17,NA(),T26*D$35) -> 2461666.7 | AB26: =IF(T26>C$17,NA(),T26*D$36) -> 1806388.9 | AC26: =AB26+AD26 -> 5356388.9 | AD26: =IF(T26>C$17,NA(),J$17) -> 3550000 | AH26: =I15 -> 3100000 | AI26: 3 | AJ26: =AJ25+AH26 -> 16350000 | AL26: =AH26*E26+AL25 -> 1865000 | AM26: =IF(E27="",C$23,AM25+AN$24) -> 241250
A27: 4 | B27: =B16 -> D | D27: =IF(F27="",I16-G16,"") -> -360000 | E27: =IF(F27="",F16/E16,"") -> -0.13636364 | F27: =IF(Releva!N16="","","X") | G27: =IF(D27="","",I13+I14+I15+I16) -> 18990000 | H27: =IF(F27="X","",IF(E27>0,"Rentable",IF(E27=0,"Improductiva","Subsidiada"))) -> Subsidiada | I27: =IF(F27="X","",(1+Releva!$C$22)*E16) -> 5536.96 | J27: =(D16*C16)/(D$13*C$13+D$14*C$14+D$15*C$15+D$16*C$16) -> 0.21528525 | L27: =IF(M27>I$17,0,IF(N26<0,IF(N27>0,M27,0),0)) -> 0 | M27: 150000 | N27: =IF((I$17+1)<=M27,NA(),N26+O27) -> -3480172.4 | O27: =IF(M27>I$17,NA(),IF(M27<=G$24,N$5,IF(M27<=G$25,N$6,IF(M27<=G$26,N$7,N$8)))) -> 4655.1724 | P27: =IF(M27>I$17,NA(),P26+R$14) -> -3510071.1 | T27: 800 | U27: =IF(C$17<T27,NA(),IF((C$17-C$16)<T27,"D",IF((C$17-C$16-C$15)<T27,"C",IF((C$17+C$16-C$15-C$14)<T27,"B","A")))) -> A | V27: =IF(C$17<T27,NA(),IF((C$17-C$16)<T27,J$17,IF((C$17-C$16-C$15)<T28,J$17-J$16,IF((C$17-C$16-C$15-C$14)<T27,J$17-J$16-J$15,J$13+J$10)))) -> 3100000 | W27: =IF(U27="A",T$20*D$13,IF(U27="B",T$20*D$14,IF(U27="C",T$20*D$15,IF(U27="D",T$20*D$16,NA()))))+W26 -> 2480000 | X27: =IF(U27="A",T$20*E$13,IF(U27="B",T$20*E$14,IF(U27="C",T$20*E$15,IF(U27="D",T$20*E$16,NA()))))+X26 -> 4640000 | Y27: =V27+W27 -> 5580000 | AA27: =IF(T27>C$17,NA(),T27*D$35) -> 2813333.3 | AB27: =IF(T27>C$17,NA(),T27*D$36) -> 2064444.4 | AC27: =AB27+AD27 -> 5614444.4 | AD27: =IF(T27>C$17,NA(),J$17) -> 3550000 | AH27: =I16 -> 2640000 | AI27: 4 | AJ27: =IF(F27="X",NA(),AJ26+AH27) -> 18990000 | AL27: =IF($F27="X",NA(),$AH27*$E27+$AL26) -> 1505000 | AM27: =IF($F27="X",NA(),$AH27*$E27+$AL26) -> 1505000
B28: Total | D28: =SUM(D24:D27) -> 5055000 | I28: Total: | J28: =SUM(J24:J27) -> 1 | L28: =IF(M28>I$17,0,IF(N27<0,IF(N28>0,M28,0),0)) -> 0 | M28: 160000 | N28: =IF((I$17+1)<=M28,NA(),N27+O28) -> -3475517.2 | O28: =IF(M28>I$17,NA(),IF(M28<=G$24,N$5,IF(M28<=G$25,N$6,IF(M28<=G$26,N$7,N$8)))) -> 4655.1724 | P28: =IF(M28>I$17,NA(),P27+R$14) -> -3507409.2 | T28: 900 | U28: =IF(C$17<T28,NA(),IF((C$17-C$16)<T28,"D",IF((C$17-C$16-C$15)<T28,"C",IF((C$17+C$16-C$15-C$14)<T28,"B","A")))) -> A | V28: =IF(C$17<T28,NA(),IF((C$17-C$16)<T28,J$17,IF((C$17-C$16-C$15)<T29,J$17-J$16,IF((C$17-C$16-C$15-C$14)<T28,J$17-J$16-J$15,J$13+J$10)))) -> 3100000 | W28: =IF(U28="A",T$20*D$13,IF(U28="B",T$20*D$14,IF(U28="C",T$20*D$15,IF(U28="D",T$20*D$16,NA()))))+W27 -> 2790000 | X28: =IF(U28="A",T$20*E$13,IF(U28="B",T$20*E$14,IF(U28="C",T$20*E$15,IF(U28="D",T$20*E$16,NA()))))+X27 -> 5220000 | Y28: =V28+W28 -> 5890000 | AA28: =IF(T28>C$17,NA(),T28*D$35) -> 3165000 | AB28: =IF(T28>C$17,NA(),T28*D$36) -> 2322500 | AC28: =AB28+AD28 -> 5872500 | AD28: =IF(T28>C$17,NA(),J$17) -> 3550000
L29: =IF(M29>I$17,0,IF(N28<0,IF(N29>0,M29,0),0)) -> 0 | M29: 170000 | N29: =IF((I$17+1)<=M29,NA(),N28+O29) -> -3470862.1 | O29: =IF(M29>I$17,NA(),IF(M29<=G$24,N$5,IF(M29<=G$25,N$6,IF(M29<=G$26,N$7,N$8)))) -> 4655.1724 | P29: =IF(M29>I$17,NA(),P28+R$14) -> -3504747.2 | T29: 1000 | U29: =IF(C$17<T29,NA(),IF((C$17-C$16)<T29,"D",IF((C$17-C$16-C$15)<T29,"C",IF((C$17+C$16-C$15-C$14)<T29,"B","A")))) -> A | V29: =IF(C$17<T29,NA(),IF((C$17-C$16)<T29,J$17,IF((C$17-C$16-C$15)<T30,J$17-J$16,IF((C$17-C$16-C$15-C$14)<T29,J$17-J$16-J$15,J$13+J$10)))) -> 3100000 | W29: =IF(U29="A",T$20*D$13,IF(U29="B",T$20*D$14,IF(U29="C",T$20*D$15,IF(U29="D",T$20*D$16,NA()))))+W28 -> 3100000 | X29: =IF(U29="A",T$20*E$13,IF(U29="B",T$20*E$14,IF(U29="C",T$20*E$15,IF(U29="D",T$20*E$16,NA()))))+X28 -> 5800000 | Y29: =V29+W29 -> 6200000 | AA29: =IF(T29>C$17,NA(),T29*D$35) -> 3516666.7 | AB29: =IF(T29>C$17,NA(),T29*D$36) -> 2580555.6 | AC29: =AB29+AD29 -> 6130555.6 | AD29: =IF(T29>C$17,NA(),J$17) -> 3550000
B30: Punto de satisfacción: | C30: =I17 -> 18990000 | E30: Resultado: | F30: =(D28-J17) -> 1505000 | H30: Capital de trabajo | J30: RSI esperado | L30: =IF(M30>I$17,0,IF(N29<0,IF(N30>0,M30,0),0)) -> 0 | M30: 180000 | N30: =IF((I$17+1)<=M30,NA(),N29+O30) -> -3466206.9 | O30: =IF(M30>I$17,NA(),IF(M30<=G$24,N$5,IF(M30<=G$25,N$6,IF(M30<=G$26,N$7,N$8)))) -> 4655.1724 | P30: =IF(M30>I$17,NA(),P29+R$14) -> -3502085.3 | T30: 1100 | U30: =IF(C$17<T30,NA(),IF((C$17-C$16)<T30,"D",IF((C$17-C$16-C$15)<T30,"C",IF((C$17+C$16-C$15-C$14)<T30,"B","A")))) -> A | V30: =IF(C$17<T30,NA(),IF((C$17-C$16)<T30,J$17,IF((C$17-C$16-C$15)<T31,J$17-J$16,IF((C$17-C$16-C$15-C$14)<T30,J$17-J$16-J$15,J$13+J$10)))) -> 3100000 | W30: =IF(U30="A",T$20*D$13,IF(U30="B",T$20*D$14,IF(U30="C",T$20*D$15,IF(U30="D",T$20*D$16,NA()))))+W29 -> 3410000 | X30: =IF(U30="A",T$20*E$13,IF(U30="B",T$20*E$14,IF(U30="C",T$20*E$15,IF(U30="D",T$20*E$16,NA()))))+X29 -> 6380000 | Y30: =V30+W30 -> 6510000 | AA30: =IF(T30>C$17,NA(),T30*D$35) -> 3868333.3 | AB30: =IF(T30>C$17,NA(),T30*D$36) -> 2838611.1 | AC30: =AB30+AD30 -> 6388611.1 | AD30: =IF(T30>C$17,NA(),J$17) -> 3550000
B31: Punto equlibio de mezcla | C31: =J17/C32 -> 17186508 | E31: Exceso resultado: | F31: =F30-C23 -> 5000 | G31: Total | H31: Original | I31: =Releva!$H$17 -> 10000000 | J31: =Releva!$K$12 -> 1500000 | L31: =IF(M31>I$17,0,IF(N30<0,IF(N31>0,M31,0),0)) -> 0 | M31: 190000 | N31: =IF((I$17+1)<=M31,NA(),N30+O31) -> -3461551.7 | O31: =IF(M31>I$17,NA(),IF(M31<=G$24,N$5,IF(M31<=G$25,N$6,IF(M31<=G$26,N$7,N$8)))) -> 4655.1724 | P31: =IF(M31>I$17,NA(),P30+R$14) -> -3499423.4 | T31: 1200 | U31: =IF(C$17<T31,NA(),IF((C$17-C$16)<T31,"D",IF((C$17-C$16-C$15)<T31,"C",IF((C$17+C$16-C$15-C$14)<T31,"B","A")))) -> A | V31: =IF(C$17<T31,NA(),IF((C$17-C$16)<T31,J$17,IF((C$17-C$16-C$15)<T32,J$17-J$16,IF((C$17-C$16-C$15-C$14)<T31,J$17-J$16-J$15,J$13+J$10)))) -> 3100000 | W31: =IF(U31="A",T$20*D$13,IF(U31="B",T$20*D$14,IF(U31="C",T$20*D$15,IF(U31="D",T$20*D$16,NA()))))+W30 -> 3720000 | X31: =IF(U31="A",T$20*E$13,IF(U31="B",T$20*E$14,IF(U31="C",T$20*E$15,IF(U31="D",T$20*E$16,NA()))))+X30 -> 6960000 | Y31: =V31+W31 -> 6820000 | AA31: =IF(T31>C$17,NA(),T31*D$35) -> 4220000 | AB31: =IF(T31>C$17,NA(),T31*D$36) -> 3096666.7 | AC31: =AB31+AD31 -> 6646666.7 | AD31: =IF(T31>C$17,NA(),J$17) -> 3550000
B32: UV mezcla | C32: =F17/E17 -> 0.20655738 | E32: Rebajable precios: | F32: =F31/C17 -> 0.92592593 | G32: por unidad | H32: Eficientizado | I32: =H17 -> 10000000 | J32: =C23 -> 1500000 | L32: =IF(M32>I$17,0,IF(N31<0,IF(N32>0,M32,0),0)) -> 0 | M32: 200000 | N32: =IF((I$17+1)<=M32,NA(),N31+O32) -> -3456896.6 | O32: =IF(M32>I$17,NA(),IF(M32<=G$24,N$5,IF(M32<=G$25,N$6,IF(M32<=G$26,N$7,N$8)))) -> 4655.1724 | P32: =IF(M32>I$17,NA(),P31+R$14) -> -3496761.5 | T32: 1300 | U32: =IF(C$17<T32,NA(),IF((C$17-C$16)<T32,"D",IF((C$17-C$16-C$15)<T32,"C",IF((C$17+C$16-C$15-C$14)<T32,"B","A")))) -> A | V32: =IF(C$17<T32,NA(),IF((C$17-C$16)<T32,J$17,IF((C$17-C$16-C$15)<T33,J$17-J$16,IF((C$17-C$16-C$15-C$14)<T32,J$17-J$16-J$15,J$13+J$10)))) -> 3100000 | W32: =IF(U32="A",T$20*D$13,IF(U32="B",T$20*D$14,IF(U32="C",T$20*D$15,IF(U32="D",T$20*D$16,NA()))))+W31 -> 4030000 | X32: =IF(U32="A",T$20*E$13,IF(U32="B",T$20*E$14,IF(U32="C",T$20*E$15,IF(U32="D",T$20*E$16,NA()))))+X31 -> 7540000 | Y32: =V32+W32 -> 7130000 | AA32: =IF(T32>C$17,NA(),T32*D$35) -> 4571666.7 | AB32: =IF(T32>C$17,NA(),T32*D$36) -> 3354722.2 | AC32: =AB32+AD32 -> 6904722.2 | AD32: =IF(T32>C$17,NA(),J$17) -> 3550000
B33: Punto de equilibrio real | C33: =MAX(L12:L2022) -> 7630000 | E33: Unidades: | F33: =C17 -> 5400 | H33: Disponible | I33: =I31-I32 -> 0 | J33: =I33*J6 -> 0 | L33: =IF(M33>I$17,0,IF(N32<0,IF(N33>0,M33,0),0)) -> 0 | M33: 210000 | N33: =IF((I$17+1)<=M33,NA(),N32+O33) -> -3452241.4 | O33: =IF(M33>I$17,NA(),IF(M33<=G$24,N$5,IF(M33<=G$25,N$6,IF(M33<=G$26,N$7,N$8)))) -> 4655.1724 | P33: =IF(M33>I$17,NA(),P32+R$14) -> -3494099.5 | T33: 1400 | U33: =IF(C$17<T33,NA(),IF((C$17-C$16)<T33,"D",IF((C$17-C$16-C$15)<T33,"C",IF((C$17+C$16-C$15-C$14)<T33,"B","A")))) -> A | V33: =IF(C$17<T33,NA(),IF((C$17-C$16)<T33,J$17,IF((C$17-C$16-C$15)<T34,J$17-J$16,IF((C$17-C$16-C$15-C$14)<T33,J$17-J$16-J$15,J$13+J$10)))) -> 3100000 | W33: =IF(U33="A",T$20*D$13,IF(U33="B",T$20*D$14,IF(U33="C",T$20*D$15,IF(U33="D",T$20*D$16,NA()))))+W32 -> 4340000 | X33: =IF(U33="A",T$20*E$13,IF(U33="B",T$20*E$14,IF(U33="C",T$20*E$15,IF(U33="D",T$20*E$16,NA()))))+X32 -> 8120000 | Y33: =V33+W33 -> 7440000 | AA33: =IF(T33>C$17,NA(),T33*D$35) -> 4923333.3 | AB33: =IF(T33>C$17,NA(),T33*D$36) -> 3612777.8 | AC33: =AB33+AD33 -> 7162777.8 | AD33: =IF(T33>C$17,NA(),J$17) -> 3550000
L34: =IF(M34>I$17,0,IF(N33<0,IF(N34>0,M34,0),0)) -> 0 | M34: 220000 | N34: =IF((I$17+1)<=M34,NA(),N33+O34) -> -3447586.2 | O34: =IF(M34>I$17,NA(),IF(M34<=G$24,N$5,IF(M34<=G$25,N$6,IF(M34<=G$26,N$7,N$8)))) -> 4655.1724 | P34: =IF(M34>I$17,NA(),P33+R$14) -> -3491437.6 | T34: 1500 | U34: =IF(C$17<T34,NA(),IF((C$17-C$16)<T34,"D",IF((C$17-C$16-C$15)<T34,"C",IF((C$17+C$16-C$15-C$14)<T34,"B","A")))) -> A | V34: =IF(C$17<T34,NA(),IF((C$17-C$16)<T34,J$17,IF((C$17-C$16-C$15)<T35,J$17-J$16,IF((C$17-C$16-C$15-C$14)<T34,J$17-J$16-J$15,J$13+J$10)))) -> 3100000 | W34: =IF(U34="A",T$20*D$13,IF(U34="B",T$20*D$14,IF(U34="C",T$20*D$15,IF(U34="D",T$20*D$16,NA()))))+W33 -> 4650000 | X34: =IF(U34="A",T$20*E$13,IF(U34="B",T$20*E$14,IF(U34="C",T$20*E$15,IF(U34="D",T$20*E$16,NA()))))+X33 -> 8700000 | Y34: =V34+W34 -> 7750000 | AA34: =IF(T34>C$17,NA(),T34*D$35) -> 5275000 | AB34: =IF(T34>C$17,NA(),T34*D$36) -> 3870833.3 | AC34: =AB34+AD34 -> 7420833.3 | AD34: =IF(T34>C$17,NA(),J$17) -> 3550000
C35: Precio de venta unitario promedio: | D35: =((E13*C13)+(E14*C14)+(E15*C15)+(E16*C16))/C17 -> 3516.6667 | E35: Línea | F35: Precios costos | L35: =IF(M35>I$17,0,IF(N34<0,IF(N35>0,M35,0),0)) -> 0 | M35: 230000 | N35: =IF((I$17+1)<=M35,NA(),N34+O35) -> -3442931 | O35: =IF(M35>I$17,NA(),IF(M35<=G$24,N$5,IF(M35<=G$25,N$6,IF(M35<=G$26,N$7,N$8)))) -> 4655.1724 | P35: =IF(M35>I$17,NA(),P34+R$14) -> -3488775.7 | T35: 1600 | U35: =IF(C$17<T35,NA(),IF((C$17-C$16)<T35,"D",IF((C$17-C$16-C$15)<T35,"C",IF((C$17+C$16-C$15-C$14)<T35,"B","A")))) -> A | V35: =IF(C$17<T35,NA(),IF((C$17-C$16)<T35,J$17,IF((C$17-C$16-C$15)<T36,J$17-J$16,IF((C$17-C$16-C$15-C$14)<T35,J$17-J$16-J$15,J$13+J$10)))) -> 3250000 | W35: =IF(U35="A",T$20*D$13,IF(U35="B",T$20*D$14,IF(U35="C",T$20*D$15,IF(U35="D",T$20*D$16,NA()))))+W34 -> 4960000 | X35: =IF(U35="A",T$20*E$13,IF(U35="B",T$20*E$14,IF(U35="C",T$20*E$15,IF(U35="D",T$20*E$16,NA()))))+X34 -> 9280000 | Y35: =V35+W35 -> 8210000 | AA35: =IF(T35>C$17,NA(),T35*D$35) -> 5626666.7 | AB35: =IF(T35>C$17,NA(),T35*D$36) -> 4128888.9 | AC35: =AB35+AD35 -> 7678888.9 | AD35: =IF(T35>C$17,NA(),J$17) -> 3550000
C36: Costo variable unitario promedio: | D36: =((D13*C13)+(D14*C14)+(D15*C15)+(D16*C16))/C17 -> 2580.5556 | E36: A | F36: =IF(D13=0,0,D13+(J13+J$10*J$24+(H13+H$11*J24)*J$6)/C13) -> 4114.2447 | L36: =IF(M36>I$17,0,IF(N35<0,IF(N36>0,M36,0),0)) -> 0 | M36: 240000 | N36: =IF((I$17+1)<=M36,NA(),N35+O36) -> -3438275.9 | O36: =IF(M36>I$17,NA(),IF(M36<=G$24,N$5,IF(M36<=G$25,N$6,IF(M36<=G$26,N$7,N$8)))) -> 4655.1724 | P36: =IF(M36>I$17,NA(),P35+R$14) -> -3486113.7 | T36: 1700 | U36: =IF(C$17<T36,NA(),IF((C$17-C$16)<T36,"D",IF((C$17-C$16-C$15)<T36,"C",IF((C$17+C$16-C$15-C$14)<T36,"B","A")))) -> A | V36: =IF(C$17<T36,NA(),IF((C$17-C$16)<T36,J$17,IF((C$17-C$16-C$15)<T37,J$17-J$16,IF((C$17-C$16-C$15-C$14)<T36,J$17-J$16-J$15,J$13+J$10)))) -> 3250000 | W36: =IF(U36="A",T$20*D$13,IF(U36="B",T$20*D$14,IF(U36="C",T$20*D$15,IF(U36="D",T$20*D$16,NA()))))+W35 -> 5270000 | X36: =IF(U36="A",T$20*E$13,IF(U36="B",T$20*E$14,IF(U36="C",T$20*E$15,IF(U36="D",T$20*E$16,NA()))))+X35 -> 9860000 | Y36: =V36+W36 -> 8520000 | AA36: =IF(T36>C$17,NA(),T36*D$35) -> 5978333.3 | AB36: =IF(T36>C$17,NA(),T36*D$36) -> 4386944.4 | AC36: =AB36+AD36 -> 7936944.4 | AD36: =IF(T36>C$17,NA(),J$17) -> 3550000
E37: B | F37: =IF(D14=0,0,D14+(J14+J$10*J$24+(H14+H$11*J25)*J$6)/C14) -> 3616.3161 | L37: =IF(M37>I$17,0,IF(N36<0,IF(N37>0,M37,0),0)) -> 0 | M37: 250000 | N37: =IF((I$17+1)<=M37,NA(),N36+O37) -> -3433620.7 | O37: =IF(M37>I$17,NA(),IF(M37<=G$24,N$5,IF(M37<=G$25,N$6,IF(M37<=G$26,N$7,N$8)))) -> 4655.1724 | P37: =IF(M37>I$17,NA(),P36+R$14) -> -3483451.8 | T37: 1800 | U37: =IF(C$17<T37,NA(),IF((C$17-C$16)<T37,"D",IF((C$17-C$16-C$15)<T37,"C",IF((C$17+C$16-C$15-C$14)<T37,"B","A")))) -> A | V37: =IF(C$17<T37,NA(),IF((C$17-C$16)<T37,J$17,IF((C$17-C$16-C$15)<T38,J$17-J$16,IF((C$17-C$16-C$15-C$14)<T37,J$17-J$16-J$15,J$13+J$10)))) -> 3250000 | W37: =IF(U37="A",T$20*D$13,IF(U37="B",T$20*D$14,IF(U37="C",T$20*D$15,IF(U37="D",T$20*D$16,NA()))))+W36 -> 5580000 | X37: =IF(U37="A",T$20*E$13,IF(U37="B",T$20*E$14,IF(U37="C",T$20*E$15,IF(U37="D",T$20*E$16,NA()))))+X36 -> 10440000 | Y37: =V37+W37 -> 8830000 | AA37: =IF(T37>C$17,NA(),T37*D$35) -> 6330000 | AB37: =IF(T37>C$17,NA(),T37*D$36) -> 4645000 | AC37: =AB37+AD37 -> 8195000 | AD37: =IF(T37>C$17,NA(),J$17) -> 3550000
E38: C | F38: =IF(D15=0,0,D15+(J15+J$10*J$24+(H15+H$11*J26)*J$6)/C15) -> 2340.6351 | L38: =IF(M38>I$17,0,IF(N37<0,IF(N38>0,M38,0),0)) -> 0 | M38: 260000 | N38: =IF((I$17+1)<=M38,NA(),N37+O38) -> -3428965.5 | O38: =IF(M38>I$17,NA(),IF(M38<=G$24,N$5,IF(M38<=G$25,N$6,IF(M38<=G$26,N$7,N$8)))) -> 4655.1724 | P38: =IF(M38>I$17,NA(),P37+R$14) -> -3480789.9 | T38: 1900 | U38: =IF(C$17<T38,NA(),IF((C$17-C$16)<T38,"D",IF((C$17-C$16-C$15)<T38,"C",IF((C$17+C$16-C$15-C$14)<T38,"B","A")))) -> A | V38: =IF(C$17<T38,NA(),IF((C$17-C$16)<T38,J$17,IF((C$17-C$16-C$15)<T39,J$17-J$16,IF((C$17-C$16-C$15-C$14)<T38,J$17-J$16-J$15,J$13+J$10)))) -> 3250000 | W38: =IF(U38="A",T$20*D$13,IF(U38="B",T$20*D$14,IF(U38="C",T$20*D$15,IF(U38="D",T$20*D$16,NA()))))+W37 -> 5890000 | X38: =IF(U38="A",T$20*E$13,IF(U38="B",T$20*E$14,IF(U38="C",T$20*E$15,IF(U38="D",T$20*E$16,NA()))))+X37 -> 11020000 | Y38: =V38+W38 -> 9140000 | AA38: =IF(T38>C$17,NA(),T38*D$35) -> 6681666.7 | AB38: =IF(T38>C$17,NA(),T38*D$36) -> 4903055.6 | AC38: =AB38+AD38 -> 8453055.6 | AD38: =IF(T38>C$17,NA(),J$17) -> 3550000
E39: D | F39: =IF(D16=0,0,D16+(J16+J$10*J$24+(H16+H$11*J27)*J$6)/C16) -> 7392.4291 | L39: =IF(M39>I$17,0,IF(N38<0,IF(N39>0,M39,0),0)) -> 0 | M39: 270000 | N39: =IF((I$17+1)<=M39,NA(),N38+O39) -> -3424310.3 | O39: =IF(M39>I$17,NA(),IF(M39<=G$24,N$5,IF(M39<=G$25,N$6,IF(M39<=G$26,N$7,N$8)))) -> 4655.1724 | P39: =IF(M39>I$17,NA(),P38+R$14) -> -3478128 | T39: 2000 | U39: =IF(C$17<T39,NA(),IF((C$17-C$16)<T39,"D",IF((C$17-C$16-C$15)<T39,"C",IF((C$17+C$16-C$15-C$14)<T39,"B","A")))) -> A | V39: =IF(C$17<T39,NA(),IF((C$17-C$16)<T39,J$17,IF((C$17-C$16-C$15)<T40,J$17-J$16,IF((C$17-C$16-C$15-C$14)<T39,J$17-J$16-J$15,J$13+J$10)))) -> 3250000 | W39: =IF(U39="A",T$20*D$13,IF(U39="B",T$20*D$14,IF(U39="C",T$20*D$15,IF(U39="D",T$20*D$16,NA()))))+W38 -> 6200000 | X39: =IF(U39="A",T$20*E$13,IF(U39="B",T$20*E$14,IF(U39="C",T$20*E$15,IF(U39="D",T$20*E$16,NA()))))+X38 -> 11600000 | Y39: =V39+W39 -> 9450000 | AA39: =IF(T39>C$17,NA(),T39*D$35) -> 7033333.3 | AB39: =IF(T39>C$17,NA(),T39*D$36) -> 5161111.1 | AC39: =AB39+AD39 -> 8711111.1 | AD39: =IF(T39>C$17,NA(),J$17) -> 3550000
L40: =IF(M40>I$17,0,IF(N39<0,IF(N40>0,M40,0),0)) -> 0 | M40: 280000 | N40: =IF((I$17+1)<=M40,NA(),N39+O40) -> -3419655.2 | O40: =IF(M40>I$17,NA(),IF(M40<=G$24,N$5,IF(M40<=G$25,N$6,IF(M40<=G$26,N$7,N$8)))) -> 4655.1724 | P40: =IF(M40>I$17,NA(),P39+R$14) -> -3475466 | T40: 2100 | U40: =IF(C$17<T40,NA(),IF((C$17-C$16)<T40,"D",IF((C$17-C$16-C$15)<T40,"C",IF((C$17+C$16-C$15-C$14)<T40,"B","A")))) -> A | V40: =IF(C$17<T40,NA(),IF((C$17-C$16)<T40,J$17,IF((C$17-C$16-C$15)<T41,J$17-J$16,IF((C$17-C$16-C$15-C$14)<T40,J$17-J$16-J$15,J$13+J$10)))) -> 3250000 | W40: =IF(U40="A",T$20*D$13,IF(U40="B",T$20*D$14,IF(U40="C",T$20*D$15,IF(U40="D",T$20*D$16,NA()))))+W39 -> 6510000 | X40: =IF(U40="A",T$20*E$13,IF(U40="B",T$20*E$14,IF(U40="C",T$20*E$15,IF(U40="D",T$20*E$16,NA()))))+X39 -> 12180000 | Y40: =V40+W40 -> 9760000 | AA40: =IF(T40>C$17,NA(),T40*D$35) -> 7385000 | AB40: =IF(T40>C$17,NA(),T40*D$36) -> 5419166.7 | AC40: =AB40+AD40 -> 8969166.7 | AD40: =IF(T40>C$17,NA(),J$17) -> 3550000
...

Sheet Acuerdo
A1: Situación de origen
A2: IANCA - Instituto Argentino de Negociación, Conciliación y Arbitraje
A5: © Miguel Ángel Martín
A6: Situación original | F6: RSI : | G6: 0.15
A7: Línea | B7: q | C7: cv | D7: CF línea | E7: Ctra línea | F7: RSI | G7: CV | H7: Contribución | I7: pv | J7: CC | K7: VT | L7: pvmin
A8: A | B8: 1000 | C8: 1000 | D8: 500000 | E8: 1000000 | F8: =E8*$G$6 -> 150000 | G8: =C8*B8 -> 1000000 | H8: =G8/$G$13*$H$13 -> 1003703.7 | I8: =C8+H8/B8 -> 2003.7037 | J8: =(I8-C8)/I8 -> 0.50092421 | K8: =B8*I8 -> 2003703.7 | L8: =C8+(D8+F8)/B8 -> 1650
A9: B | B9: 1500 | C9: 1500 | D9: 750000 | E9: 1500000 | F9: =E9*$G$6 -> 225000 | G9: =C9*B9 -> 2250000 | H9: =G9/$G$13*$H$13 -> 2258333.3 | I9: =C9+H9/B9 -> 3005.5556 | J9: =(I9-C9)/I9 -> 0.50092421 | K9: =B9*I9 -> 4508333.3 | L9: =C9+(D9+F9)/B9 -> 2150
A10: C | B10: 2000 | C10: 2000 | D10: 1000000 | E10: 2000000 | F10: =E10*$G$6 -> 300000 | G10: =C10*B10 -> 4000000 | H10: =G10/$G$13*$H$13 -> 4014814.8 | I10: =C10+H10/B10 -> 4007.4074 | J10: =(I10-C10)/I10 -> 0.50092421 | K10: =B10*I10 -> 8014814.8 | L10: =C10+(D10+F10)/B10 -> 2650
A11: D | B11: 2500 | C11: 2500 | D11: 1250000 | E11: 2500000 | F11: =E11*$G$6 -> 375000 | G11: =C11*B11 -> 6250000 | H11: =G11/$G$13*$H$13 -> 6273148.1 | I11: =C11+H11/B11 -> 5009.2593 | J11: =(I11-C11)/I11 -> 0.50092421 | K11: =B11*I11 -> 12523148 | L11: =C11+(D11+F11)/B11 -> 3150
A12: General | D12: 6000000 | E12: 20000000 | F12: =E12*$G$6 -> 3000000
A13: Total | B13: =SUM(B8:B11) -> 7000 | D13: =SUM(D8:D12) -> 9500000 | E13: =SUM(E8:E12) -> 27000000 | F13: =E13*$G$6 -> 4050000 | G13: =SUM(G8:G12) -> 13500000 | H13: =D13+F13 -> 13550000 | K13: =SUM(K8:K11) -> 27050000
A16: IANCA - Instituto Argentino de Negociación, Conciliación y Arbitraje
A19: © Miguel Ángel Martín
A20: Acuerdo de precios en "D" | I20: RSI : | J20: 0.15
A21: Línea | B21: q | C21: cv | D21: CF línea | E21: Ctra línea | F21: RSI | G21: CV | H21: Contribución | I21: pv | J21: CC | K21: Variación pv | L21: VT | M21: % aumento
A22: A | B22: =B8 -> 1000 | C22: =C8 -> 1000 | D22: =D8 -> 500000 | E22: =E8 -> 1000000 | F22: =E22*$G$6 -> 150000 | G22: =C22*B22 -> 1000000 | H22: =(I22-C22)*B22 -> 2075862.1 | I22: =I8+K22 -> 3075.8621 | J22: =(I22-C22)/I22 -> 0.67488789 | K22: =((G22/(G$27-$G$25)*F$28)/B22) -> 1072.1584 | L22: =I22*B22 -> 3075862.1 | M22: =L22/K8-1 -> 0.53508828
A23: B | B23: =B9 -> 1500 | C23: =C9 -> 1500 | D23: =D9 -> 750000 | E23: =E9 -> 1500000 | F23: =E23*$G$6 -> 225000 | G23: =C23*B23 -> 2250000 | H23: =(I23-C23)*B23 -> 4670689.7 | I23: =I9+K23 -> 4613.7931 | J23: =(I23-C23)/I23 -> 0.67488789 | K23: =((G23/(G$27-$G$25)*F$28)/B23) -> 1608.2375 | L23: =I23*B23 -> 6920689.7 | M23: =L23/K9-1 -> 0.53508828
A24: C | B24: =B10 -> 2000 | C24: =C10 -> 2000 | D24: =D10 -> 1000000 | E24: =E10 -> 2000000 | F24: =E24*$G$6 -> 300000 | G24: =C24*B24 -> 4000000 | H24: =(I24-C24)*B24 -> 8303448.3 | I24: =I10+K24 -> 6151.7241 | J24: =(I24-C24)/I24 -> 0.67488789 | K24: =((G24/(G$27-$G$25)*F$28)/B24) -> 2144.3167 | L24: =I24*B24 -> 12303448 | M24: =L24/K10-1 -> 0.53508828
A25: D | B25: =B11 -> 2500 | C25: =C11 -> 2500 | D25: =D11 -> 1250000 | E25: =E11 -> 2500000 | F25: =E25*$G$6 -> 375000 | G25: =C25*B25 -> 6250000 | H25: =(I25-C25)*B25 -> -1500000 | I25: 1900 | J25: =(I25-C25)/I25 -> -0.31578947 | K25: =I25-I11 -> -3109.2593 | L25: =I25*B25 -> 4750000 | M25: =L25/K11-1 -> -0.6207024
A26: General | D26: 6000000 | E26: 20000000 | F26: =E26*$G$6-H11+H25 -> -4773148.1
A27: Total | B27: =SUM(B22:B25) -> 7000 | D27: =SUM(D22:D26) -> 9500000 | E27: =SUM(E22:E26) -> 27000000 | F27: =SUM(F22:F26) -> -3723148.1 | G27: =SUM(G22:G26) -> 13500000 | H27: =SUM(H22:H25) -> 13550000 | L27: =SUM(L22:L25) -> 27050000
E28: Déficit | F28: =F13-F27 -> 7773148.1
A31: IANCA - Instituto Argentino de Negociación, Conciliación y Arbitraje
A34: © Miguel Ángel Martín
A35: Eliminación línea "D" | I35: RSI : | J35: 0.15
A36: Línea | B36: q | C36: cv | D36: CF línea | E36: Ctra línea | F36: RSI | G36: CV | H36: Contribución | I36: pv | J36: CC | K36: VT | L36: % aumento
A37: A | B37: =B22 -> 1000 | C37: =C22 -> 1000 | D37: =D22 -> 500000 | E37: =E22 -> 1000000 | F37: =E37*$G$6 -> 150000 | G37: =C37*B37 -> 1000000 | H37: =(G37/$G$42)*$H$42 -> 1644827.6 | I37: =((G37/$G$42)*K$42)/B37 -> 2644.8276 | J37: =(I37-C37)/I37 -> 0.62190352 | K37: =I37*B37 -> 2644827.6 | L37: =I37/I8-1 -> 0.31996941
A38: B | B38: =B23 -> 1500 | C38: =C23 -> 1500 | D38: =D23 -> 750000 | E38: =E23 -> 1500000 | F38: =E38*$G$6 -> 225000 | G38: =C38*B38 -> 2250000 | H38: =(G38/$G$42)*$H$42 -> 3700862.1 | I38: =((G38/$G$42)*K$42)/B38 -> 3967.2414 | J38: =(I38-C38)/I38 -> 0.62190352 | K38: =I38*B38 -> 5950862.1 | L38: =I38/I9-1 -> 0.31996941
A39: C | B39: =B24 -> 2000 | C39: =C24 -> 2000 | D39: =D24 -> 1000000 | E39: =E24 -> 2000000 | F39: =E39*$G$6 -> 300000 | G39: =C39*B39 -> 4000000 | H39: =(G39/$G$42)*$H$42 -> 6579310.3 | I39: =((G39/$G$42)*K$42)/B39 -> 5289.6552 | J39: =(I39-C39)/I39 -> 0.62190352 | K39: =I39*B39 -> 10579310 | L39: =I39/I10-1 -> 0.31996941
A40: D | B40: 0 | C40: 0 | D40: 0 | E40: 0 | F40: 0 | G40: 0 | H40: 0 | I40: 0 | J40: 0 | K40: 0
A41: General | D41: 6000000 | E41: 20000000 | F41: =E41*$G$6 -> 3000000
A42: Total | B42: =SUM(B37:B40) -> 4500 | D42: =SUM(D37:D41) -> 8250000 | E42: =SUM(E37:E41) -> 24500000 | F42: =SUM(F37:F41) -> 3675000 | G42: =SUM(G37:G41) -> 7250000 | H42: =D42+F42 -> 11925000 | K42: =F42+G42+D42 -> 19175000
